BEGIN:VCALENDAR
VERSION:2.0
PRODID:-//eventon.com NONSGML v1.0//EN
BEGIN:VEVENT
UID:69e8dc7916729
DTSTAMP:20260422T163433
DTSTART:20240922
DTEND:20241011
TZID:CET
LOCATION:
SUMMARY:Conxemar 2024: Međunarodna izložba smrznutih plodova mora
DESCRIPTION: Početak: 23. rujna 2024. Kraj: 11. listopada 2024. Mjesto: Vigo\,  Španjolska (hibridno) Conxemar 2024 služi kao platforma za sastanke cijele industrije plodova mora: veletrgovaca\,  uvoznika\,  izvoznika\,  proizvođača\,  distributera te onih koji se bave hladnjačama\,  strojevima\,  pomoćnim djelatnostima (hlađenje\,  pakiranje\,  plastika\,  itd.). Sudionici će imati mogućnost zakazivanja i održavanja virtualnih sastanaka[..]\nhttps://tera.hr/events/conxemar-2024-medunarodna-izlozba-smrznutih-plodova-mora/
URL:https://tera.hr/events/conxemar-2024-medunarodna-izlozba-smrznutih-plodova-mora/
END:VEVENT
END:VCALENDAR